BEGIN:VCALENDAR
VERSION:2.0
PRODID:-//JQY - ECPv6.15.17.1//NONSGML v1.0//EN
CALSCALE:GREGORIAN
METHOD:PUBLISH
X-WR-CALNAME:JQY
X-ORIGINAL-URL:https://jqy.org
X-WR-CALDESC:Events for JQY
REFRESH-INTERVAL;VALUE=DURATION:PT1H
X-Robots-Tag:noindex
X-PUBLISHED-TTL:PT1H
BEGIN:VTIMEZONE
TZID:America/New_York
BEGIN:DAYLIGHT
TZOFFSETFROM:-0500
TZOFFSETTO:-0400
TZNAME:EDT
DTSTART:20240310T070000
END:DAYLIGHT
BEGIN:STANDARD
TZOFFSETFROM:-0400
TZOFFSETTO:-0500
TZNAME:EST
DTSTART:20241103T060000
END:STANDARD
BEGIN:DAYLIGHT
TZOFFSETFROM:-0500
TZOFFSETTO:-0400
TZNAME:EDT
DTSTART:20250309T070000
END:DAYLIGHT
BEGIN:STANDARD
TZOFFSETFROM:-0400
TZOFFSETTO:-0500
TZNAME:EST
DTSTART:20251102T060000
END:STANDARD
BEGIN:DAYLIGHT
TZOFFSETFROM:-0500
TZOFFSETTO:-0400
TZNAME:EDT
DTSTART:20260308T070000
END:DAYLIGHT
BEGIN:STANDARD
TZOFFSETFROM:-0400
TZOFFSETTO:-0500
TZNAME:EST
DTSTART:20261101T060000
END:STANDARD
BEGIN:DAYLIGHT
TZOFFSETFROM:-0500
TZOFFSETTO:-0400
TZNAME:EDT
DTSTART:20270314T070000
END:DAYLIGHT
BEGIN:STANDARD
TZOFFSETFROM:-0400
TZOFFSETTO:-0500
TZNAME:EST
DTSTART:20271107T060000
END:STANDARD
END:VTIMEZONE
BEGIN:VEVENT
DTSTART;TZID=America/New_York:20250904T180000
DTEND;TZID=America/New_York:20250904T200000
DTSTAMP:20260425T113654
CREATED:20250618T162812Z
LAST-MODIFIED:20250725T153226Z
UID:6285-1757008800-1757016000@jqy.org
SUMMARY:Rainbow Waffles & Ice Cream Sundaes at the Summer Drop-in Center
DESCRIPTION:Rainbow Waffles & Ice Cream Sundaes?! Yes\, please!Come get your sweet on at the Drop-in Center with DIY sundaes\, waffle magic\, and toppings as extra as we are. Whether you’re here for the sprinkles\, the syrup\, or just the company\, we’ve got you covered.  \n——————–Join us from 6:00-8:00 PM EST at 135 W 41st Street \nNo need to register for Drop-in center\, just show up! We’ll have plenty of cholov yisroel pizza and ice-breaker games to go around. For anyone ages 13-23 \nIf you need assistance with transportation to Drop-in please apply at jqy.org/travelrequest
URL:https://jqy.org/event/summer-activities-at-the-drop-in-center-4/
ATTACH;FMTTYPE=image/png:https://jqylive.s3.amazonaws.com/wp-content/uploads/2025/06/25113212/Summer-DROP-IN-CENTER-Set-2-3.png
END:VEVENT
BEGIN:VEVENT
DTSTART;TZID=America/New_York:20260425T113654
DTEND;TZID=America/New_York:20260425T113654
DTSTAMP:20260425T113654
CREATED:20250808T184611Z
LAST-MODIFIED:20250827T160615Z
UID:6620-1777117014-1777117014@jqy.org
SUMMARY:Open House for Parents & Professionals
DESCRIPTION:Join us for JQY’s Open House for Parents and Professionals on Monday\, September 8 in NYC. This is a chance to meet our staff\, tour the Drop-in Center\, and learn how we can partner with you in supporting the wellbeing of LGBTQ youth. Whether you’re looking for guidance\, resources\, or simply a listening ear\, our team is ready to walk alongside you.
URL:https://jqy.org/event/parent-open-house/
END:VEVENT
BEGIN:VEVENT
DTSTART;TZID=America/New_York:20250911T180000
DTEND;TZID=America/New_York:20250911T200000
DTSTAMP:20260425T113654
CREATED:20250618T163327Z
LAST-MODIFIED:20250815T153334Z
UID:6291-1757613600-1757620800@jqy.org
SUMMARY:Josh & Richard Sheva Brachot at the at the Summer Drop-in Center
DESCRIPTION:Mazel tov\, Josh & Richard!  This week at the Drop-in Center\, we’re throwing a Sheva Brachot celebration for our newly married friends. Come for the joy\, the blessings\, and of course… the snacks! \n——————–Join us from 6:00-8:00 PM EST at 135 W 41st Street \nNo need to register for Drop-in center\, just show up! We’ll have plenty of cholov yisroel pizza and ice-breaker games to go around. For anyone ages 13-23 \nIf you need assistance with transportation to Drop-in please apply at jqy.org/travelrequest
URL:https://jqy.org/event/summer-activities-at-the-drop-in-center-7/
ATTACH;FMTTYPE=image/jpeg:https://jqylive.s3.amazonaws.com/wp-content/uploads/2025/06/14165311/3-2.jpg
END:VEVENT
BEGIN:VEVENT
DTSTART;TZID=America/New_York:20260425T113654
DTEND;TZID=America/New_York:20260425T113654
DTSTAMP:20260425T113654
CREATED:20250815T155246Z
LAST-MODIFIED:20250815T155246Z
UID:6694-1777117014-1777117014@jqy.org
SUMMARY:Jessica Kirson & Friends Stand Up for JQY
DESCRIPTION:Join comedy powerhouse Jessica Kirson and a lineup of her hilarious friends for an unforgettable night of laughter – all to support Jewish Queer Youth (JQY). Proceeds from the evening will help JQY provide free therapy and life-saving resources to LGBTQ Jewish youth from non-accepting communities. Come for the laughs\, stay for the impact! 
URL:https://jqy.org/event/jessica-kirson-friends-stand-up-for-jqy/
END:VEVENT
BEGIN:VEVENT
DTSTART;TZID=America/New_York:20250918T180000
DTEND;TZID=America/New_York:20250918T200000
DTSTAMP:20260425T113654
CREATED:20250618T163351Z
LAST-MODIFIED:20250917T204212Z
UID:6293-1758218400-1758225600@jqy.org
SUMMARY:Rosh Hashana Shiur at the Summer Drop-in Center
DESCRIPTION:Start your new year with insight\, reflection\, and community. Join us for a special Rosh Hashana shiur where we’ll explore themes of renewal\, identity\, and hope—through a queer-affirming Jewish lens. All backgrounds and questions are welcome. Let’s enter 5786 together. ✡️ \n——————–Join us from 6:00-8:00 PM EST at 135 W 41st Street \nNo need to register for Drop-in center\, just show up! We’ll have plenty of cholov yisroel pizza and ice-breaker games to go around. For anyone ages 13-23 \nIf you need assistance with transportation to Drop-in please apply at jqy.org/travelrequest
URL:https://jqy.org/event/summer-activities-at-the-drop-in-center-8/
ATTACH;FMTTYPE=image/jpeg:https://jqylive.s3.amazonaws.com/wp-content/uploads/2025/06/14165351/4-2.jpg
END:VEVENT
END:VCALENDAR