BEGIN:VCALENDAR
VERSION:2.0
PRODID:-//JQY - ECPv6.15.17.1//NONSGML v1.0//EN
CALSCALE:GREGORIAN
METHOD:PUBLISH
X-ORIGINAL-URL:https://jqy.org
X-WR-CALDESC:Events for JQY
REFRESH-INTERVAL;VALUE=DURATION:PT1H
X-Robots-Tag:noindex
X-PUBLISHED-TTL:PT1H
BEGIN:VTIMEZONE
TZID:America/New_York
BEGIN:DAYLIGHT
TZOFFSETFROM:-0500
TZOFFSETTO:-0400
TZNAME:EDT
DTSTART:20240310T070000
END:DAYLIGHT
BEGIN:STANDARD
TZOFFSETFROM:-0400
TZOFFSETTO:-0500
TZNAME:EST
DTSTART:20241103T060000
END:STANDARD
BEGIN:DAYLIGHT
TZOFFSETFROM:-0500
TZOFFSETTO:-0400
TZNAME:EDT
DTSTART:20250309T070000
END:DAYLIGHT
BEGIN:STANDARD
TZOFFSETFROM:-0400
TZOFFSETTO:-0500
TZNAME:EST
DTSTART:20251102T060000
END:STANDARD
BEGIN:DAYLIGHT
TZOFFSETFROM:-0500
TZOFFSETTO:-0400
TZNAME:EDT
DTSTART:20260308T070000
END:DAYLIGHT
BEGIN:STANDARD
TZOFFSETFROM:-0400
TZOFFSETTO:-0500
TZNAME:EST
DTSTART:20261101T060000
END:STANDARD
END:VTIMEZONE
BEGIN:VEVENT
DTSTART;TZID=America/New_York:20250701T193000
DTEND;TZID=America/New_York:20250701T210000
DTSTAMP:20260425T234757
CREATED:20250627T192210Z
LAST-MODIFIED:20250701T190249Z
UID:6352-1751398200-1751403600@jqy.org
SUMMARY:When All of the Above Isn't Enough: Processing the New York Mayoral Race- Virtual
DESCRIPTION:As the NYC mayoral race shifts from the primaries to the general election season\, many in the Jewish community and in the queer community are experiencing and sharing strong reactions. Being queer and Jewish can make for a complex set of reactions. JQY is here for you!\n \nJoin us for a processing conversation to get and give support around the election. All feelings are welcome. You do not need to live in or near NYC to participate in this online discussion.\n \nThis event is for ages 13-23.
URL:https://jqy.org/event/when-all-of-the-above-isnt-enough-processing-the-new-york-mayoral-race-virtual/
ATTACH;FMTTYPE=image/png:https://jqylive.s3.amazonaws.com/wp-content/uploads/2025/06/27152150/Brown-Minimal-Mental-Health-Check-In-Instagram-Post-2.png
END:VEVENT
BEGIN:VEVENT
DTSTART;TZID=America/New_York:20250717T180000
DTEND;TZID=America/New_York:20250717T200000
DTSTAMP:20260425T234757
CREATED:20250618T162529Z
LAST-MODIFIED:20250714T204757Z
UID:6279-1752775200-1752782400@jqy.org
SUMMARY:Karaoke & July Birthdays at the Summer Drop-in Center
DESCRIPTION:——————–Join us from 6:00-8:00 PM EST at 135 W 41st Street \nNo need to register for Drop-in center\, just show up! We’ll have plenty of cholov yisroel pizza and ice-breaker games to go around. For anyone ages 13-23 \nIf you need assistance with transportation to Drop-in please apply at jqy.org/travelrequest
URL:https://jqy.org/event/summer-activities-at-the-drop-in-center/
ATTACH;FMTTYPE=image/png:https://jqylive.s3.amazonaws.com/wp-content/uploads/2025/06/14164053/1.png
END:VEVENT
BEGIN:VEVENT
DTSTART;TZID=America/New_York:20250724T180000
DTEND;TZID=America/New_York:20250724T200000
DTSTAMP:20260425T234757
CREATED:20250618T162614Z
LAST-MODIFIED:20250718T152414Z
UID:6281-1753380000-1753387200@jqy.org
SUMMARY:Headshots with Michael Kushner at the Summer Drop-in Center
DESCRIPTION:Join us at the JQY Summer Drop-in Center for a special night of headshots with the fabulous Michael Kushner! Michael is a queer multi-hyphenate artist\, actor\, photographer\, and creator of Queerology: The Podcast\, known for capturing the beauty\, authenticity\, and magic of LGBTQ+ folks just being themselves. Whether you need a fresh photo for school\, auditions\, job apps—or just want to feel seen and celebrated—this is your chance to shine in front of the camera. Come as you are and leave with a portrait that captures your power\, your pride\, and your personality. Pizza\, friends\, and queer joy included! \n——————–Join us from 6:00-8:00 PM EST at 135 W 41st Street \nNo need to register for Drop-in center\, just show up! We’ll have plenty of cholov yisroel pizza and ice-breaker games to go around. For anyone ages 13-23 \nIf you need assistance with transportation to Drop-in please apply at jqy.org/travelrequest
URL:https://jqy.org/event/summer-activities-at-the-drop-in-center-2/
ATTACH;FMTTYPE=image/png:https://jqylive.s3.amazonaws.com/wp-content/uploads/2025/06/14164209/2.png
END:VEVENT
END:VCALENDAR