BEGIN:VCALENDAR
VERSION:2.0
PRODID:-//JQY - ECPv6.15.17.1//NONSGML v1.0//EN
CALSCALE:GREGORIAN
METHOD:PUBLISH
X-WR-CALNAME:JQY
X-ORIGINAL-URL:https://jqy.org
X-WR-CALDESC:Events for JQY
REFRESH-INTERVAL;VALUE=DURATION:PT1H
X-Robots-Tag:noindex
X-PUBLISHED-TTL:PT1H
BEGIN:VTIMEZONE
TZID:America/New_York
BEGIN:DAYLIGHT
TZOFFSETFROM:-0500
TZOFFSETTO:-0400
TZNAME:EDT
DTSTART:20240310T070000
END:DAYLIGHT
BEGIN:STANDARD
TZOFFSETFROM:-0400
TZOFFSETTO:-0500
TZNAME:EST
DTSTART:20241103T060000
END:STANDARD
BEGIN:DAYLIGHT
TZOFFSETFROM:-0500
TZOFFSETTO:-0400
TZNAME:EDT
DTSTART:20250309T070000
END:DAYLIGHT
BEGIN:STANDARD
TZOFFSETFROM:-0400
TZOFFSETTO:-0500
TZNAME:EST
DTSTART:20251102T060000
END:STANDARD
BEGIN:DAYLIGHT
TZOFFSETFROM:-0500
TZOFFSETTO:-0400
TZNAME:EDT
DTSTART:20260308T070000
END:DAYLIGHT
BEGIN:STANDARD
TZOFFSETFROM:-0400
TZOFFSETTO:-0500
TZNAME:EST
DTSTART:20261101T060000
END:STANDARD
END:VTIMEZONE
BEGIN:VEVENT
DTSTART;TZID=America/New_York:20250605T183000
DTEND;TZID=America/New_York:20250605T213000
DTSTAMP:20260425T235925
CREATED:20250430T192648Z
LAST-MODIFIED:20250516T142412Z
UID:4347-1749148200-1749159000@jqy.org
SUMMARY:Drop-in Center
DESCRIPTION:Want to secretly push an agenda on a very large audience? Do it with jokes on television! Comedy writing is by far the most cowardly way to speak truth to power\, so come learn how one clown did it during three very different presidential administrations! \n——————–Join us from 6:30pm-9:30pm EST at 135 W 41st Street \nNo need to register for Drop-in center\, just show up! We’ll have plenty of cholov yisroel pizza and ice-breaker games to go around. For anyone ages 13-23 \nIf you need assistance with transportation to Drop-in please apply at jqy.org/travelrequest
URL:https://jqy.org/event/drop-in-center/
ATTACH;FMTTYPE=image/jpeg:https://jqylive.s3.amazonaws.com/wp-content/uploads/2025/04/16102338/DROP-IN-CENTER-4-copy.jpg
END:VEVENT
BEGIN:VEVENT
DTSTART;TZID=America/New_York:20250612T183000
DTEND;TZID=America/New_York:20250612T213000
DTSTAMP:20260425T235925
CREATED:20250430T192737Z
LAST-MODIFIED:20250606T182111Z
UID:4349-1749753000-1749763800@jqy.org
SUMMARY:Cupcake Decorating at the Drop-in Center
DESCRIPTION:Celebrate Pride with sprinkles and sweetness! Join us at the JQY Drop-In Center for Rainbow Cupcake Decorating — a chance to get creative\, connect with friends\, and make something deliciously queer. All supplies (and vibes) provided! ——————–Join us from 6:30pm-9:30pm EST at 135 W 41st Street \nNo need to register for drop-in center\, just show up! We’ll have plenty of cholov yisroel pizza and ice-breaker games to go around. For anyone ages 13-23
URL:https://jqy.org/event/drop-in-center-2/
ATTACH;FMTTYPE=image/jpeg:https://jqylive.s3.amazonaws.com/wp-content/uploads/2025/04/06142049/DROP-IN-CENTER-6-web.jpg
END:VEVENT
BEGIN:VEVENT
DTSTART;TZID=America/New_York:20250616T190000
DTEND;TZID=America/New_York:20250616T210000
DTSTAMP:20260425T235925
CREATED:20250523T154612Z
LAST-MODIFIED:20250523T154612Z
UID:6221-1750100400-1750107600@jqy.org
SUMMARY:Yankees Legacy of Pride Night
DESCRIPTION:Join JQY for a fun night at the ballpark! The Yankees are hosting Legacy of Pride night on Monday\, June 16\, for the Yankees-Angels game. \nPride Night ticket includes a Yankees pride baseball cap and a $15 food/drink voucher (redeemable at the kosher food stands) \nEvery ticket supports JQY\, a lifeline for LGBTQ+ Jewish youth. Step up to the plate and join a group of fellow JQY fans—enjoy the game\, connect with new friends\, and help us hit a home run for a cause that counts.
URL:https://jqy.org/event/yankees-legacy-of-pride-night/
ATTACH;FMTTYPE=image/png:https://jqylive.s3.amazonaws.com/wp-content/uploads/2025/05/23114506/Join-JQY-for-Yankees-pride-web.png
END:VEVENT
BEGIN:VEVENT
DTSTART;TZID=America/New_York:20250619T183000
DTEND;TZID=America/New_York:20250619T213000
DTSTAMP:20260425T235925
CREATED:20250430T192428Z
LAST-MODIFIED:20250508T192351Z
UID:4342-1750357800-1750368600@jqy.org
SUMMARY:Coming Out Stories with Malka Wallick at the Drop-in Center
DESCRIPTION:Coming out can mean so many things\, but what is most important is what it means to you. \nJoin us for a chance to tell your story or help create a safe and supportive space for others to tell theirs. This is a great opportunity to get to know and connect with friends\, new and old. \nWe’ll also be celebrating all of our June birthdays! ——————–Join us from 6:30pm-9:30pm EST at 135 W 41st Street \nNo need to register for drop-in center\, just show up! We’ll have plenty of cholov yisroel pizza and ice-breaker games to go around. For anyone ages 13-23 \nIf you need assistance with transportation to drop-in please apply at jqy.org/travelrequest
URL:https://jqy.org/event/coming-out-stories-with-malka-wallick-at-the-drop-in-center/
ATTACH;FMTTYPE=image/png:https://jqylive.s3.amazonaws.com/wp-content/uploads/2025/04/08152343/DROP-IN-CENTER-4-web.png
END:VEVENT
BEGIN:VEVENT
DTSTART;TZID=America/New_York:20250622T130000
DTEND;TZID=America/New_York:20250622T150000
DTSTAMP:20260425T235925
CREATED:20250530T151333Z
LAST-MODIFIED:20250530T151333Z
UID:6239-1750597200-1750604400@jqy.org
SUMMARY:Early Summer Walk
DESCRIPTION:On Sunday\, June 22nd at 1:00 PM\, explore the Brooklyn Botanical Gardens. The flowers are obviously slaying for pride month! To start\, we’ll meet Tali B. outside of the Eastern Parkway Entrance\, and take a walk through the Botanical Gardens. After this\, we’ll head to Prospect Park and make signs for the Pride Parade\, which is on the Sunday right after! This event is for ages 13–23 who identify as Trans+ or are curious about gender and the natural world. Not sure if this describes you? Come hang out and see what it’s about—we’d love to have you join us!
URL:https://jqy.org/event/early-summer-walk/
ATTACH;FMTTYPE=image/png:https://jqylive.s3.amazonaws.com/wp-content/uploads/2025/05/30111254/SPRING-WALK-AND-CRAFT.png
END:VEVENT
BEGIN:VEVENT
DTSTART;TZID=America/New_York:20250626T183000
DTEND;TZID=America/New_York:20250626T213000
DTSTAMP:20260425T235925
CREATED:20250430T192604Z
LAST-MODIFIED:20250619T192311Z
UID:4345-1750962600-1750973400@jqy.org
SUMMARY:Pride Party & Graduation at the Drop-in Center
DESCRIPTION:Congratulations to our graduates! Whether you’re finishing school or moving on from JQY\, we’re so proud of you. Join us at Drop-In for a graduation celebration and a Pride party—complete with cake\, party games\, and fun times all around!   \n——————–Join us from 6:30pm-9:30pm EST at 135 W 41st Street \nNo need to register for Drop-in center\, just show up! We’ll have plenty of cholov yisroel pizza and ice-breaker games to go around. For anyone ages 13-23 \nIf you need assistance with transportation to Drop-in please apply at jqy.org/travelrequest
URL:https://jqy.org/event/pride-party-graduation-at-the-drop-in-center/
ATTACH;FMTTYPE=image/jpeg:https://jqylive.s3.amazonaws.com/wp-content/uploads/2025/04/19152303/Youth-Pride-Party.jpg
END:VEVENT
BEGIN:VEVENT
DTSTART;TZID=America/New_York:20250629T090000
DTEND;TZID=America/New_York:20250629T160000
DTSTAMP:20260425T235925
CREATED:20250626T163817Z
LAST-MODIFIED:20250626T163817Z
UID:6310-1751187600-1751212800@jqy.org
SUMMARY:Jew York Pride Brunch & Parade
DESCRIPTION:Join us for a festive community bagel brunch and/or march with our contingent in the Heritage of Pride NYC Pride March! \nAmid escalating attacks on LGBTQ+ rights\, especially the rights of trans and nonbinary youth\, as well as rising antisemitism\, the ability to gather in affirming\, joyful community as LGBTQ+ Jews is crucial. Please use the link above to register for the bagel brunch\, joining our contingent for the Pride March\, or both! \nJew York Pride is one of the only Pride Sunday events accessible to youth and families – we look forward to celebrating our full selves with you! \nRegistration is mandatory for security purposes. Location will be shared with registrants the week of the event. \nA generous thank you to the sponsoring organizations Keshet\, Eshel\, and the Marlene Mayerson JCC of Manhattan and to our co-sponsors: 92nd Street Y\, Ansche Chesed\, Avodah\, B’nai Jeshurun\, Congregation Beth Elohim\, Congregation Rodeph Sholom\, Footsteps\, the Grad Network: Powered by Columbia/Barnard Hillel\, JAFI\, JCC Harlem\, JCRC of NY\, Jewish Theological Seminary of America\, Kehillat Harlem\, NFTY\, Repair the World – NYC\, SAJ\, Sephardic Mizrahi Q Network\, Temple Emanu-el Streicker Cultural Center\, and USY.
URL:https://jqy.org/event/jew-york-pride-brunch-parade/
ATTACH;FMTTYPE=image/png:https://jqylive.s3.amazonaws.com/wp-content/uploads/2025/06/26123806/Jew-York-Pride-2-2.png
END:VEVENT
END:VCALENDAR