BEGIN:VCALENDAR
VERSION:2.0
PRODID:-//JQY - ECPv6.15.17.1//NONSGML v1.0//EN
CALSCALE:GREGORIAN
METHOD:PUBLISH
X-ORIGINAL-URL:https://jqy.org
X-WR-CALDESC:Events for JQY
REFRESH-INTERVAL;VALUE=DURATION:PT1H
X-Robots-Tag:noindex
X-PUBLISHED-TTL:PT1H
BEGIN:VTIMEZONE
TZID:America/New_York
BEGIN:DAYLIGHT
TZOFFSETFROM:-0500
TZOFFSETTO:-0400
TZNAME:EDT
DTSTART:20250309T070000
END:DAYLIGHT
BEGIN:STANDARD
TZOFFSETFROM:-0400
TZOFFSETTO:-0500
TZNAME:EST
DTSTART:20251102T060000
END:STANDARD
BEGIN:DAYLIGHT
TZOFFSETFROM:-0500
TZOFFSETTO:-0400
TZNAME:EDT
DTSTART:20260308T070000
END:DAYLIGHT
BEGIN:STANDARD
TZOFFSETFROM:-0400
TZOFFSETTO:-0500
TZNAME:EST
DTSTART:20261101T060000
END:STANDARD
BEGIN:DAYLIGHT
TZOFFSETFROM:-0500
TZOFFSETTO:-0400
TZNAME:EDT
DTSTART:20270314T070000
END:DAYLIGHT
BEGIN:STANDARD
TZOFFSETFROM:-0400
TZOFFSETTO:-0500
TZNAME:EST
DTSTART:20271107T060000
END:STANDARD
END:VTIMEZONE
BEGIN:VEVENT
DTSTART;TZID=America/New_York:20260202T193000
DTEND;TZID=America/New_York:20260202T203000
DTSTAMP:20260422T003332
CREATED:20260115T205724Z
LAST-MODIFIED:20260115T224233Z
UID:7817-1770060600-1770064200@jqy.org
SUMMARY:Holding Complexity: Supporting Trans Youth by Lending Your Adult Brain
DESCRIPTION:A child in your life—your child\, student\, congregant\, or a friend’s child—has come out as trans. Now what? \nSome voices say that because more young people are identifying as trans\, the child is not truly trans but is responding to peer pressure and “wokeness.” Other voices insist that the only way to be supportive is to immediately say yes to whatever transition-related social or medical steps a young person asks for. Meanwhile\, each side accuses the other of causing real harm—using words like transphobia on one end and child abuse on the other. \nJoin Jeremy Novich\, PsyD\, and Tali Benkoe\, LCSW\, from JQY’s clinical team for a conversation-style webinar as they dive head-first into this polarized and controversial topic. Listen in as these experts on the intersection of mental health\, queerness\, and the Orthodox community use their extensive professional and personal experience to try to make sense of this messy discourse.
URL:https://jqy.org/event/holding-complexity/
ATTACH;FMTTYPE=image/png:https://jqylive.s3.amazonaws.com/wp-content/uploads/2026/01/15171516/Clinical-Conversations-2.png
END:VEVENT
END:VCALENDAR