BEGIN:VCALENDAR
VERSION:2.0
PRODID:-//JQY - ECPv6.15.17.1//NONSGML v1.0//EN
CALSCALE:GREGORIAN
METHOD:PUBLISH
X-ORIGINAL-URL:https://jqy.org
X-WR-CALDESC:Events for JQY
REFRESH-INTERVAL;VALUE=DURATION:PT1H
X-Robots-Tag:noindex
X-PUBLISHED-TTL:PT1H
BEGIN:VTIMEZONE
TZID:America/New_York
BEGIN:DAYLIGHT
TZOFFSETFROM:-0500
TZOFFSETTO:-0400
TZNAME:EDT
DTSTART:20240310T070000
END:DAYLIGHT
BEGIN:STANDARD
TZOFFSETFROM:-0400
TZOFFSETTO:-0500
TZNAME:EST
DTSTART:20241103T060000
END:STANDARD
BEGIN:DAYLIGHT
TZOFFSETFROM:-0500
TZOFFSETTO:-0400
TZNAME:EDT
DTSTART:20250309T070000
END:DAYLIGHT
BEGIN:STANDARD
TZOFFSETFROM:-0400
TZOFFSETTO:-0500
TZNAME:EST
DTSTART:20251102T060000
END:STANDARD
BEGIN:DAYLIGHT
TZOFFSETFROM:-0500
TZOFFSETTO:-0400
TZNAME:EDT
DTSTART:20260308T070000
END:DAYLIGHT
BEGIN:STANDARD
TZOFFSETFROM:-0400
TZOFFSETTO:-0500
TZNAME:EST
DTSTART:20261101T060000
END:STANDARD
END:VTIMEZONE
BEGIN:VEVENT
DTSTART;TZID=America/New_York:20251218T183000
DTEND;TZID=America/New_York:20251218T213000
DTSTAMP:20260423T193446
CREATED:20250909T163251Z
LAST-MODIFIED:20251212T022933Z
UID:7014-1766082600-1766093400@jqy.org
SUMMARY:Chanukah Party at the Drop-in Center
DESCRIPTION:Celebrate Chanukah with JQY! We’ll have Sufganiyot\, latkes\, candle lighting\, and who knows\, you may even walk away with a Chanukah present (hint: you DEFINITELY will!) \nThis week’s Breakaway is the Trans+ group\, where we’ll explore all things gender-related\, through schmoozing\, crafting and asking big questions. All trans\, gender questioning or non-conforming and generally curious people are welcome to join.——————–Join us from 6:30pm-9:30pm EST at 135 W 41st Street \nNo need to register for drop-in center\, just show up! We’ll have plenty of cholov yisroel pizza and ice-breaker games to go around. For anyone ages 13-23 \nIf you need assistance with transportation to drop-in please apply at jqy.org/travelrequest \n 
URL:https://jqy.org/event/drop-in-center-3-3/
ATTACH;FMTTYPE=image/jpeg:https://jqylive.s3.amazonaws.com/wp-content/uploads/2025/09/11212713/queer-teen-CHANUKA-party-1.jpg
END:VEVENT
END:VCALENDAR