BEGIN:VCALENDAR
VERSION:2.0
PRODID:-//JQY - ECPv6.15.17.1//NONSGML v1.0//EN
CALSCALE:GREGORIAN
METHOD:PUBLISH
X-ORIGINAL-URL:https://jqy.org
X-WR-CALDESC:Events for JQY
REFRESH-INTERVAL;VALUE=DURATION:PT1H
X-Robots-Tag:noindex
X-PUBLISHED-TTL:PT1H
BEGIN:VTIMEZONE
TZID:America/New_York
BEGIN:DAYLIGHT
TZOFFSETFROM:-0500
TZOFFSETTO:-0400
TZNAME:EDT
DTSTART:20240310T070000
END:DAYLIGHT
BEGIN:STANDARD
TZOFFSETFROM:-0400
TZOFFSETTO:-0500
TZNAME:EST
DTSTART:20241103T060000
END:STANDARD
BEGIN:DAYLIGHT
TZOFFSETFROM:-0500
TZOFFSETTO:-0400
TZNAME:EDT
DTSTART:20250309T070000
END:DAYLIGHT
BEGIN:STANDARD
TZOFFSETFROM:-0400
TZOFFSETTO:-0500
TZNAME:EST
DTSTART:20251102T060000
END:STANDARD
BEGIN:DAYLIGHT
TZOFFSETFROM:-0500
TZOFFSETTO:-0400
TZNAME:EDT
DTSTART:20260308T070000
END:DAYLIGHT
BEGIN:STANDARD
TZOFFSETFROM:-0400
TZOFFSETTO:-0500
TZNAME:EST
DTSTART:20261101T060000
END:STANDARD
END:VTIMEZONE
BEGIN:VEVENT
DTSTART;TZID=America/New_York:20251211T183000
DTEND;TZID=America/New_York:20251211T213000
DTSTAMP:20260424T100012
CREATED:20251105T205539Z
LAST-MODIFIED:20251208T191813Z
UID:7441-1765477800-1765488600@jqy.org
SUMMARY:Cocoa and Crochet at the Drop-In Center
DESCRIPTION:Unravel your creative side! Join us at Drop-In this week for a crochet and cocoa night. All yarn crafts are welcome! Bring your work-in-progress projects and supplies and join us for a relaxing night of creating and schmoozing. We’ll also have Crochet 101 lesson for those of you who want to learn how to get started. \nThis week’s Breakaway is Disability: What the Health? where we will talk about the intersection of queerness and disability and navigating the world. All are welcome! \n——————–Join us from 6:30pm-9:30pm EST at 135 W 41st Street \nNo need to register for drop-in center\, just show up! We’ll have plenty of cholov yisroel pizza and ice-breaker games to go around. For anyone ages 13-23 \nIf you need assistance with transportation to drop-in please apply at jqy.org/travelrequest
URL:https://jqy.org/event/drop-in-center-4-2/
ATTACH;FMTTYPE=image/png:https://jqylive.s3.amazonaws.com/wp-content/uploads/2025/11/08141803/Drop-in-2025-26-19.png
END:VEVENT
END:VCALENDAR