BEGIN:VCALENDAR
VERSION:2.0
PRODID:-//JQY - ECPv6.15.17.1//NONSGML v1.0//EN
CALSCALE:GREGORIAN
METHOD:PUBLISH
X-ORIGINAL-URL:https://jqy.org
X-WR-CALDESC:Events for JQY
REFRESH-INTERVAL;VALUE=DURATION:PT1H
X-Robots-Tag:noindex
X-PUBLISHED-TTL:PT1H
BEGIN:VTIMEZONE
TZID:America/New_York
BEGIN:DAYLIGHT
TZOFFSETFROM:-0500
TZOFFSETTO:-0400
TZNAME:EDT
DTSTART:20240310T070000
END:DAYLIGHT
BEGIN:STANDARD
TZOFFSETFROM:-0400
TZOFFSETTO:-0500
TZNAME:EST
DTSTART:20241103T060000
END:STANDARD
BEGIN:DAYLIGHT
TZOFFSETFROM:-0500
TZOFFSETTO:-0400
TZNAME:EDT
DTSTART:20250309T070000
END:DAYLIGHT
BEGIN:STANDARD
TZOFFSETFROM:-0400
TZOFFSETTO:-0500
TZNAME:EST
DTSTART:20251102T060000
END:STANDARD
BEGIN:DAYLIGHT
TZOFFSETFROM:-0500
TZOFFSETTO:-0400
TZNAME:EDT
DTSTART:20260308T070000
END:DAYLIGHT
BEGIN:STANDARD
TZOFFSETFROM:-0400
TZOFFSETTO:-0500
TZNAME:EST
DTSTART:20261101T060000
END:STANDARD
END:VTIMEZONE
BEGIN:VEVENT
DTSTART;TZID=America/New_York:20251209T183000
DTEND;TZID=America/New_York:20251209T203000
DTSTAMP:20260424T133901
CREATED:20251104T193209Z
LAST-MODIFIED:20251105T181332Z
UID:7427-1765305000-1765312200@jqy.org
SUMMARY:Winter Wellness
DESCRIPTION:Join JQY and Eshel for a relaxing spa night focused on the five senses. We’ll learn how to practice mindfulness\, talk about setting up your space to better ground yourself\, and enjoy some cozy aromatherapy! Chinese food (vegetarian and meat options) will be served. Location will be shared upon registration.
URL:https://jqy.org/event/winter-wellness/
ATTACH;FMTTYPE=image/png:https://jqylive.s3.amazonaws.com/wp-content/uploads/2025/11/05131325/Self-Care-1-copy.png
END:VEVENT
END:VCALENDAR