BEGIN:VCALENDAR
VERSION:2.0
PRODID:-//JQY - ECPv6.15.17.1//NONSGML v1.0//EN
CALSCALE:GREGORIAN
METHOD:PUBLISH
X-ORIGINAL-URL:https://jqy.org
X-WR-CALDESC:Events for JQY
REFRESH-INTERVAL;VALUE=DURATION:PT1H
X-Robots-Tag:noindex
X-PUBLISHED-TTL:PT1H
BEGIN:VTIMEZONE
TZID:America/New_York
BEGIN:DAYLIGHT
TZOFFSETFROM:-0500
TZOFFSETTO:-0400
TZNAME:EDT
DTSTART:20240310T070000
END:DAYLIGHT
BEGIN:STANDARD
TZOFFSETFROM:-0400
TZOFFSETTO:-0500
TZNAME:EST
DTSTART:20241103T060000
END:STANDARD
BEGIN:DAYLIGHT
TZOFFSETFROM:-0500
TZOFFSETTO:-0400
TZNAME:EDT
DTSTART:20250309T070000
END:DAYLIGHT
BEGIN:STANDARD
TZOFFSETFROM:-0400
TZOFFSETTO:-0500
TZNAME:EST
DTSTART:20251102T060000
END:STANDARD
BEGIN:DAYLIGHT
TZOFFSETFROM:-0500
TZOFFSETTO:-0400
TZNAME:EDT
DTSTART:20260308T070000
END:DAYLIGHT
BEGIN:STANDARD
TZOFFSETFROM:-0400
TZOFFSETTO:-0500
TZNAME:EST
DTSTART:20261101T060000
END:STANDARD
END:VTIMEZONE
BEGIN:VEVENT
DTSTART;TZID=America/New_York:20251204T183000
DTEND;TZID=America/New_York:20251204T213000
DTSTAMP:20260424T222145
CREATED:20250909T162145Z
LAST-MODIFIED:20251104T211738Z
UID:7006-1764873000-1764883800@jqy.org
SUMMARY:Zine Workshop at the Drop-in Center
DESCRIPTION:This week at Drop-In we will embrace our inner artists and make our own take-home zines! No experience necessary. \nAt this week’s Breakaway\, we will be joined by law students from the Cardozo Law Name Change Clinic who will teach us about the process of legally changing your name. \nWe’ll also be celebrating all of our December birthdays! \n——————–Join us from 6:30pm-9:30pm EST at 135 W 41st Street \nNo need to register for Drop-In center\, just show up! We’ll have plenty of cholov yisroel pizza and ice-breaker games to go around. For anyone ages 13-23 \nIf you need assistance with transportation to Drop-In please apply at jqy.org/travelrequest
URL:https://jqy.org/event/drop-in-center-3/
ATTACH;FMTTYPE=image/png:https://jqylive.s3.amazonaws.com/wp-content/uploads/2025/09/04161730/7-copy.png
END:VEVENT
END:VCALENDAR