BEGIN:VCALENDAR
VERSION:2.0
PRODID:-//JQY - ECPv6.15.17.1//NONSGML v1.0//EN
CALSCALE:GREGORIAN
METHOD:PUBLISH
X-WR-CALNAME:JQY
X-ORIGINAL-URL:https://jqy.org
X-WR-CALDESC:Events for JQY
REFRESH-INTERVAL;VALUE=DURATION:PT1H
X-Robots-Tag:noindex
X-PUBLISHED-TTL:PT1H
BEGIN:VTIMEZONE
TZID:America/New_York
BEGIN:DAYLIGHT
TZOFFSETFROM:-0500
TZOFFSETTO:-0400
TZNAME:EDT
DTSTART:20240310T070000
END:DAYLIGHT
BEGIN:STANDARD
TZOFFSETFROM:-0400
TZOFFSETTO:-0500
TZNAME:EST
DTSTART:20241103T060000
END:STANDARD
BEGIN:DAYLIGHT
TZOFFSETFROM:-0500
TZOFFSETTO:-0400
TZNAME:EDT
DTSTART:20250309T070000
END:DAYLIGHT
BEGIN:STANDARD
TZOFFSETFROM:-0400
TZOFFSETTO:-0500
TZNAME:EST
DTSTART:20251102T060000
END:STANDARD
BEGIN:DAYLIGHT
TZOFFSETFROM:-0500
TZOFFSETTO:-0400
TZNAME:EDT
DTSTART:20260308T070000
END:DAYLIGHT
BEGIN:STANDARD
TZOFFSETFROM:-0400
TZOFFSETTO:-0500
TZNAME:EST
DTSTART:20261101T060000
END:STANDARD
END:VTIMEZONE
BEGIN:VEVENT
DTSTART;TZID=America/New_York:20251120T183000
DTEND;TZID=America/New_York:20251120T213000
DTSTAMP:20260425T081938
CREATED:20250909T162854Z
LAST-MODIFIED:20251103T183112Z
UID:7010-1763663400-1763674200@jqy.org
SUMMARY:Friendsgiving at the Drop-in Center
DESCRIPTION:Friendsgiving: It’s like Thanksgiving\, but with your CHOSEN family! Gather round the drop-in table for a delicious feast of seasonal pies with your favorite LGBTQ Jewish fam. We can’t wait to celebrate with you in gratitude\, laughter\, and simcha. \n*Ugly sweater optional \nThis week’s Breakaway is FrumTalk- Where we’ll create a safe and open space to explore how religion interacts with our queerness- and vice versa-through shmoozing\, crafting\, and asking the big questions. ——————–Join us from 6:30 pm-9:30 pm EST at 135 W 41st Street \nNo need to register for Drop-in center; just show up! We’ll have plenty of cholov yisroel pizza and ice-breaker games to go around. For anyone ages 13-23 \nIf you need assistance with transportation to Drop-in please apply at jqy.org/travelrequest
URL:https://jqy.org/event/drop-in-center-3-2/
ATTACH;FMTTYPE=image/jpeg:https://jqylive.s3.amazonaws.com/wp-content/uploads/2025/09/03133000/4-1.jpg
END:VEVENT
END:VCALENDAR