BEGIN:VCALENDAR
VERSION:2.0
PRODID:-//JQY - ECPv6.15.17.1//NONSGML v1.0//EN
CALSCALE:GREGORIAN
METHOD:PUBLISH
X-WR-CALNAME:JQY
X-ORIGINAL-URL:https://jqy.org
X-WR-CALDESC:Events for JQY
REFRESH-INTERVAL;VALUE=DURATION:PT1H
X-Robots-Tag:noindex
X-PUBLISHED-TTL:PT1H
BEGIN:VTIMEZONE
TZID:America/New_York
BEGIN:DAYLIGHT
TZOFFSETFROM:-0500
TZOFFSETTO:-0400
TZNAME:EDT
DTSTART:20240310T070000
END:DAYLIGHT
BEGIN:STANDARD
TZOFFSETFROM:-0400
TZOFFSETTO:-0500
TZNAME:EST
DTSTART:20241103T060000
END:STANDARD
BEGIN:DAYLIGHT
TZOFFSETFROM:-0500
TZOFFSETTO:-0400
TZNAME:EDT
DTSTART:20250309T070000
END:DAYLIGHT
BEGIN:STANDARD
TZOFFSETFROM:-0400
TZOFFSETTO:-0500
TZNAME:EST
DTSTART:20251102T060000
END:STANDARD
BEGIN:DAYLIGHT
TZOFFSETFROM:-0500
TZOFFSETTO:-0400
TZNAME:EDT
DTSTART:20260308T070000
END:DAYLIGHT
BEGIN:STANDARD
TZOFFSETFROM:-0400
TZOFFSETTO:-0500
TZNAME:EST
DTSTART:20261101T060000
END:STANDARD
END:VTIMEZONE
BEGIN:VEVENT
DTSTART;TZID=America/New_York:20251116T130000
DTEND;TZID=America/New_York:20251116T160000
DTSTAMP:20260425T081901
CREATED:20251105T214745Z
LAST-MODIFIED:20251105T214846Z
UID:7454-1763298000-1763308800@jqy.org
SUMMARY:Fall Walk and Craft
DESCRIPTION:Explore Prospect Park during peak foliage and take home a DIY art project to commemorate your walk. We’ll be making individualized fall leaf impressions as colorful\, queer keepsakes.  \nWe’ll be meeting Greta and Tali B. outside the Grand Army Plaza Entrance and will head out on a serene fall walk through Prospect Park. We’ll explore how autumn and the passing of the seasons can teach us about ourselves and the world around us. Then\, we’ll find a leafy spot to memorialize the objects we’ve collected along our walk. \nThis event is for ages 13–23 who identify as Trans+ or are curious about gender and the natural world. Not sure if this describes you? Come hang out and see what it’s about—we’d love to have you join us!
URL:https://jqy.org/event/fall-walk-2/
ATTACH;FMTTYPE=image/png:https://jqylive.s3.amazonaws.com/wp-content/uploads/2025/11/05164735/4.png
END:VEVENT
END:VCALENDAR