BEGIN:VCALENDAR
VERSION:2.0
PRODID:-//JQY - ECPv6.15.17.1//NONSGML v1.0//EN
CALSCALE:GREGORIAN
METHOD:PUBLISH
X-ORIGINAL-URL:https://jqy.org
X-WR-CALDESC:Events for JQY
REFRESH-INTERVAL;VALUE=DURATION:PT1H
X-Robots-Tag:noindex
X-PUBLISHED-TTL:PT1H
BEGIN:VTIMEZONE
TZID:America/New_York
BEGIN:DAYLIGHT
TZOFFSETFROM:-0500
TZOFFSETTO:-0400
TZNAME:EDT
DTSTART:20240310T070000
END:DAYLIGHT
BEGIN:STANDARD
TZOFFSETFROM:-0400
TZOFFSETTO:-0500
TZNAME:EST
DTSTART:20241103T060000
END:STANDARD
BEGIN:DAYLIGHT
TZOFFSETFROM:-0500
TZOFFSETTO:-0400
TZNAME:EDT
DTSTART:20250309T070000
END:DAYLIGHT
BEGIN:STANDARD
TZOFFSETFROM:-0400
TZOFFSETTO:-0500
TZNAME:EST
DTSTART:20251102T060000
END:STANDARD
BEGIN:DAYLIGHT
TZOFFSETFROM:-0500
TZOFFSETTO:-0400
TZNAME:EDT
DTSTART:20260308T070000
END:DAYLIGHT
BEGIN:STANDARD
TZOFFSETFROM:-0400
TZOFFSETTO:-0500
TZNAME:EST
DTSTART:20261101T060000
END:STANDARD
END:VTIMEZONE
BEGIN:VEVENT
DTSTART;TZID=America/New_York:20251106T183000
DTEND;TZID=America/New_York:20251106T213000
DTSTAMP:20260425T082228
CREATED:20251023T212945Z
LAST-MODIFIED:20251103T182719Z
UID:7249-1762453800-1762464600@jqy.org
SUMMARY:Sephardi & Mizrahi Jewish Trivia at the Drop-in Center
DESCRIPTION:This week at Drop-In\, to celebrate Sephardi-Mizrahi Heritage Month\, we will be joined by Ruben Shiminov from the Sephardi-Mizrahi Q Network! We will learn about the intersections of all these identities and enjoy some Bukharian treats. \nThis weeks Breakaway is Name Change Clinic with Cardozo OUTlaw where JQYers will have assistance with filling out the documentation for legal name and gender marker changes and get notarization of the documents.——————–Join us from 6:30pm-9:30pm EST at 135 W 41st Street \nNo need to register for drop-in center\, just show up! We’ll have plenty of cholov yisroel pizza and ice-breaker games to go around. For anyone ages 13-23 \nIf you need assistance with transportation to drop-in please apply at jqy.org/travelrequest
URL:https://jqy.org/event/drop-in-center-3-13/
ATTACH;FMTTYPE=image/jpeg:https://jqylive.s3.amazonaws.com/wp-content/uploads/2025/10/03132651/Drop-in-2025-26-5-1.jpg
END:VEVENT
END:VCALENDAR