BEGIN:VCALENDAR
VERSION:2.0
PRODID:-//JQY - ECPv6.15.17.1//NONSGML v1.0//EN
CALSCALE:GREGORIAN
METHOD:PUBLISH
X-WR-CALNAME:JQY
X-ORIGINAL-URL:https://jqy.org
X-WR-CALDESC:Events for JQY
REFRESH-INTERVAL;VALUE=DURATION:PT1H
X-Robots-Tag:noindex
X-PUBLISHED-TTL:PT1H
BEGIN:VTIMEZONE
TZID:America/New_York
BEGIN:DAYLIGHT
TZOFFSETFROM:-0500
TZOFFSETTO:-0400
TZNAME:EDT
DTSTART:20240310T070000
END:DAYLIGHT
BEGIN:STANDARD
TZOFFSETFROM:-0400
TZOFFSETTO:-0500
TZNAME:EST
DTSTART:20241103T060000
END:STANDARD
BEGIN:DAYLIGHT
TZOFFSETFROM:-0500
TZOFFSETTO:-0400
TZNAME:EDT
DTSTART:20250309T070000
END:DAYLIGHT
BEGIN:STANDARD
TZOFFSETFROM:-0400
TZOFFSETTO:-0500
TZNAME:EST
DTSTART:20251102T060000
END:STANDARD
BEGIN:DAYLIGHT
TZOFFSETFROM:-0500
TZOFFSETTO:-0400
TZNAME:EDT
DTSTART:20260308T070000
END:DAYLIGHT
BEGIN:STANDARD
TZOFFSETFROM:-0400
TZOFFSETTO:-0500
TZNAME:EST
DTSTART:20261101T060000
END:STANDARD
END:VTIMEZONE
BEGIN:VEVENT
DTSTART;TZID=America/New_York:20250918T180000
DTEND;TZID=America/New_York:20250918T200000
DTSTAMP:20260425T222330
CREATED:20250618T163351Z
LAST-MODIFIED:20250917T204212Z
UID:6293-1758218400-1758225600@jqy.org
SUMMARY:Rosh Hashana Shiur at the Summer Drop-in Center
DESCRIPTION:Start your new year with insight\, reflection\, and community. Join us for a special Rosh Hashana shiur where we’ll explore themes of renewal\, identity\, and hope—through a queer-affirming Jewish lens. All backgrounds and questions are welcome. Let’s enter 5786 together. ✡️ \n——————–Join us from 6:00-8:00 PM EST at 135 W 41st Street \nNo need to register for Drop-in center\, just show up! We’ll have plenty of cholov yisroel pizza and ice-breaker games to go around. For anyone ages 13-23 \nIf you need assistance with transportation to Drop-in please apply at jqy.org/travelrequest
URL:https://jqy.org/event/summer-activities-at-the-drop-in-center-8/
ATTACH;FMTTYPE=image/jpeg:https://jqylive.s3.amazonaws.com/wp-content/uploads/2025/06/14165351/4-2.jpg
END:VEVENT
END:VCALENDAR