BEGIN:VCALENDAR
VERSION:2.0
PRODID:-//JQY - ECPv6.15.17.1//NONSGML v1.0//EN
CALSCALE:GREGORIAN
METHOD:PUBLISH
X-ORIGINAL-URL:https://jqy.org
X-WR-CALDESC:Events for JQY
REFRESH-INTERVAL;VALUE=DURATION:PT1H
X-Robots-Tag:noindex
X-PUBLISHED-TTL:PT1H
BEGIN:VTIMEZONE
TZID:America/New_York
BEGIN:DAYLIGHT
TZOFFSETFROM:-0500
TZOFFSETTO:-0400
TZNAME:EDT
DTSTART:20240310T070000
END:DAYLIGHT
BEGIN:STANDARD
TZOFFSETFROM:-0400
TZOFFSETTO:-0500
TZNAME:EST
DTSTART:20241103T060000
END:STANDARD
BEGIN:DAYLIGHT
TZOFFSETFROM:-0500
TZOFFSETTO:-0400
TZNAME:EDT
DTSTART:20250309T070000
END:DAYLIGHT
BEGIN:STANDARD
TZOFFSETFROM:-0400
TZOFFSETTO:-0500
TZNAME:EST
DTSTART:20251102T060000
END:STANDARD
BEGIN:DAYLIGHT
TZOFFSETFROM:-0500
TZOFFSETTO:-0400
TZNAME:EDT
DTSTART:20260308T070000
END:DAYLIGHT
BEGIN:STANDARD
TZOFFSETFROM:-0400
TZOFFSETTO:-0500
TZNAME:EST
DTSTART:20261101T060000
END:STANDARD
END:VTIMEZONE
BEGIN:VEVENT
DTSTART;TZID=America/New_York:20250904T180000
DTEND;TZID=America/New_York:20250904T200000
DTSTAMP:20260425T203017
CREATED:20250618T162812Z
LAST-MODIFIED:20250725T153226Z
UID:6285-1757008800-1757016000@jqy.org
SUMMARY:Rainbow Waffles & Ice Cream Sundaes at the Summer Drop-in Center
DESCRIPTION:Rainbow Waffles & Ice Cream Sundaes?! Yes\, please!Come get your sweet on at the Drop-in Center with DIY sundaes\, waffle magic\, and toppings as extra as we are. Whether you’re here for the sprinkles\, the syrup\, or just the company\, we’ve got you covered.  \n——————–Join us from 6:00-8:00 PM EST at 135 W 41st Street \nNo need to register for Drop-in center\, just show up! We’ll have plenty of cholov yisroel pizza and ice-breaker games to go around. For anyone ages 13-23 \nIf you need assistance with transportation to Drop-in please apply at jqy.org/travelrequest
URL:https://jqy.org/event/summer-activities-at-the-drop-in-center-4/
ATTACH;FMTTYPE=image/png:https://jqylive.s3.amazonaws.com/wp-content/uploads/2025/06/25113212/Summer-DROP-IN-CENTER-Set-2-3.png
END:VEVENT
END:VCALENDAR