BEGIN:VCALENDAR
VERSION:2.0
PRODID:-//JQY - ECPv6.15.17.1//NONSGML v1.0//EN
CALSCALE:GREGORIAN
METHOD:PUBLISH
X-WR-CALNAME:JQY
X-ORIGINAL-URL:https://jqy.org
X-WR-CALDESC:Events for JQY
REFRESH-INTERVAL;VALUE=DURATION:PT1H
X-Robots-Tag:noindex
X-PUBLISHED-TTL:PT1H
BEGIN:VTIMEZONE
TZID:America/New_York
BEGIN:DAYLIGHT
TZOFFSETFROM:-0500
TZOFFSETTO:-0400
TZNAME:EDT
DTSTART:20240310T070000
END:DAYLIGHT
BEGIN:STANDARD
TZOFFSETFROM:-0400
TZOFFSETTO:-0500
TZNAME:EST
DTSTART:20241103T060000
END:STANDARD
BEGIN:DAYLIGHT
TZOFFSETFROM:-0500
TZOFFSETTO:-0400
TZNAME:EDT
DTSTART:20250309T070000
END:DAYLIGHT
BEGIN:STANDARD
TZOFFSETFROM:-0400
TZOFFSETTO:-0500
TZNAME:EST
DTSTART:20251102T060000
END:STANDARD
BEGIN:DAYLIGHT
TZOFFSETFROM:-0500
TZOFFSETTO:-0400
TZNAME:EDT
DTSTART:20260308T070000
END:DAYLIGHT
BEGIN:STANDARD
TZOFFSETFROM:-0400
TZOFFSETTO:-0500
TZNAME:EST
DTSTART:20261101T060000
END:STANDARD
END:VTIMEZONE
BEGIN:VEVENT
DTSTART;TZID=America/New_York:20250629T090000
DTEND;TZID=America/New_York:20250629T160000
DTSTAMP:20260425T232456
CREATED:20250626T163817Z
LAST-MODIFIED:20250626T163817Z
UID:6310-1751187600-1751212800@jqy.org
SUMMARY:Jew York Pride Brunch & Parade
DESCRIPTION:Join us for a festive community bagel brunch and/or march with our contingent in the Heritage of Pride NYC Pride March! \nAmid escalating attacks on LGBTQ+ rights\, especially the rights of trans and nonbinary youth\, as well as rising antisemitism\, the ability to gather in affirming\, joyful community as LGBTQ+ Jews is crucial. Please use the link above to register for the bagel brunch\, joining our contingent for the Pride March\, or both! \nJew York Pride is one of the only Pride Sunday events accessible to youth and families – we look forward to celebrating our full selves with you! \nRegistration is mandatory for security purposes. Location will be shared with registrants the week of the event. \nA generous thank you to the sponsoring organizations Keshet\, Eshel\, and the Marlene Mayerson JCC of Manhattan and to our co-sponsors: 92nd Street Y\, Ansche Chesed\, Avodah\, B’nai Jeshurun\, Congregation Beth Elohim\, Congregation Rodeph Sholom\, Footsteps\, the Grad Network: Powered by Columbia/Barnard Hillel\, JAFI\, JCC Harlem\, JCRC of NY\, Jewish Theological Seminary of America\, Kehillat Harlem\, NFTY\, Repair the World – NYC\, SAJ\, Sephardic Mizrahi Q Network\, Temple Emanu-el Streicker Cultural Center\, and USY.
URL:https://jqy.org/event/jew-york-pride-brunch-parade/
ATTACH;FMTTYPE=image/png:https://jqylive.s3.amazonaws.com/wp-content/uploads/2025/06/26123806/Jew-York-Pride-2-2.png
END:VEVENT
END:VCALENDAR