BEGIN:VCALENDAR
VERSION:2.0
PRODID:-//JQY - ECPv6.15.17.1//NONSGML v1.0//EN
CALSCALE:GREGORIAN
METHOD:PUBLISH
X-WR-CALNAME:JQY
X-ORIGINAL-URL:https://jqy.org
X-WR-CALDESC:Events for JQY
REFRESH-INTERVAL;VALUE=DURATION:PT1H
X-Robots-Tag:noindex
X-PUBLISHED-TTL:PT1H
BEGIN:VTIMEZONE
TZID:America/New_York
BEGIN:DAYLIGHT
TZOFFSETFROM:-0500
TZOFFSETTO:-0400
TZNAME:EDT
DTSTART:20230312T070000
END:DAYLIGHT
BEGIN:STANDARD
TZOFFSETFROM:-0400
TZOFFSETTO:-0500
TZNAME:EST
DTSTART:20231105T060000
END:STANDARD
BEGIN:DAYLIGHT
TZOFFSETFROM:-0500
TZOFFSETTO:-0400
TZNAME:EDT
DTSTART:20240310T070000
END:DAYLIGHT
BEGIN:STANDARD
TZOFFSETFROM:-0400
TZOFFSETTO:-0500
TZNAME:EST
DTSTART:20241103T060000
END:STANDARD
BEGIN:DAYLIGHT
TZOFFSETFROM:-0500
TZOFFSETTO:-0400
TZNAME:EDT
DTSTART:20250309T070000
END:DAYLIGHT
BEGIN:STANDARD
TZOFFSETFROM:-0400
TZOFFSETTO:-0500
TZNAME:EST
DTSTART:20251102T060000
END:STANDARD
END:VTIMEZONE
BEGIN:VEVENT
DTSTART;TZID=America/New_York:20240408T183000
DTEND;TZID=America/New_York:20240408T213000
DTSTAMP:20260421T115333
CREATED:20240401T171139Z
LAST-MODIFIED:20240401T171139Z
UID:2756-1712601000-1712611800@jqy.org
SUMMARY:The Trans Bonanza
DESCRIPTION:An unforgettable evening of celebrating and uplifting the TGNC+ community\, with a variety of booths focusing on different elements of being trans\, and guest speakers Abby Stein and Dr. Mackenzie (Z) Paige Lerario.
URL:https://jqy.org/event/the-trans-bonanza/
ATTACH;FMTTYPE=image/png:https://jqylive.s3.amazonaws.com/app/asset/uploads/2024/04/01131129/Screen-Shot-2024-04-01-at-1.11.03-PM.png
END:VEVENT
END:VCALENDAR